View In:
ArcGIS JavaScript
ArcGIS Online Map Viewer
ArcGIS Earth
ArcGIS Pro
Service Description: <div style='text-align:Left;font-size:12pt'><p><span>This is a group containing label layers showing three different levels of detail for site address numbers.</span></p></div>
Map Name: BldgAddressNumberLabelsLayer_Boone
Legend
All Layers and Tables
Dynamic Legend
Dynamic All Layers
Layers:
Description: This is a group containing label layers showing three different levels of detail for site address numbers.
Service Item Id: bdeffef05d0d4554a9fd9d19a55411bf
Copyright Text: GIS Services Division, Boone County Planning Commission
Spatial Reference:
102100
(3857)
LatestVCSWkid(0)
Single Fused Map Cache: true
Tile Info:
- Height: 256
- Width: 256
- DPI: 96
-
Levels of Detail: 24
-
Level ID: 1
[ Start Tile, End Tile ]
- Resolution: 78271.5169639999
- Scale: 2.95828763795777E8
-
Level ID: 2
[ Start Tile, End Tile ]
- Resolution: 39135.7584820001
- Scale: 1.47914381897889E8
-
Level ID: 3
[ Start Tile, End Tile ]
- Resolution: 19567.8792409999
- Scale: 7.3957190948944E7
-
Level ID: 4
[ Start Tile, End Tile ]
- Resolution: 9783.93962049996
- Scale: 3.6978595474472E7
-
Level ID: 5
[ Start Tile, End Tile ]
- Resolution: 4891.96981024998
- Scale: 1.8489297737236E7
- Format: PNG
- Compression Quality: 0.0
- Origin: X: -2.0037508342787E7
Y: 2.0037508342787E7
- Spatial Reference: 102100
(3857)
LatestVCSWkid(0)
Storage Info:
- Storage Format: esriMapCacheStorageModeCompactV2
- Packet Size: 128
Initial Extent:
XMin: -9517129.374743925
YMin: 4671484.894576916
XMax: -9398928.139693895
YMax: 4757061.838892585
Spatial Reference: 102100
(3857)
LatestVCSWkid(0)
Full Extent:
XMin: -9580720.991536459
YMin: 4611544.479233996
XMax: -9261590.943126405
YMax: 4775909.6239466015
Spatial Reference: 102100
(3857)
LatestVCSWkid(0)
Units: esriMeters
Supported Image Format Types: PNG32,PNG24,PNG,JPG,DIB,TIFF,EMF,PS,PDF,GIF,SVG,SVGZ,BMP
Document Info:
Title: Bldg Address Number Labels Layer
Author:
Comments: This is a group containing label layers showing three different levels of detail for site address numbers.
Subject: Group layer containing situs address number labels
Category:
Keywords: Boone County,Cincinnati Area,Geographic Information Systems,Cincinnati,Northern Kentucky,BCGIS,City of Walton,Northern Kentucky GIS,City of Florence,Florence,Cincinnati Metro,City of Union,Union,Boone County GIS,Boone,Walton,Kentucky,BCPCGIS,Address,Addresses,Situs,Situs Address,Site Address,Address Number,Situs Address Number,Site Address Number,Annotation
AntialiasingMode: Fast
TextAntialiasingMode: Force
Supports Dynamic Layers: true
MaxRecordCount: 2000
MaxSelectionCount: 2000
MaxImageHeight: 4096
MaxImageWidth: 4096
Supported Query Formats: JSON, geoJSON, PBF
Supports Query Data Elements: true
Min Scale: 5.91657527591555E8
Max Scale: 282.124294
Supports Datum Transformation: true
Child Resources:
Info
Dynamic Layer
Supported Operations:
Export Map
Identify
QueryLegends
QueryDomains
Find
Return Updates